BEGIN:VCALENDAR
VERSION:2.0
PRODID:-//BlenioBellissima - ECPv6.15.19//NONSGML v1.0//EN
CALSCALE:GREGORIAN
METHOD:PUBLISH
X-ORIGINAL-URL:https://bleniobellissima.ch
X-WR-CALDESC:Eventi per BlenioBellissima
REFRESH-INTERVAL;VALUE=DURATION:PT1H
X-Robots-Tag:noindex
X-PUBLISHED-TTL:PT1H
BEGIN:VTIMEZONE
TZID:Europe/Paris
BEGIN:DAYLIGHT
TZOFFSETFROM:+0100
TZOFFSETTO:+0200
TZNAME:CEST
DTSTART:20240331T010000
END:DAYLIGHT
BEGIN:STANDARD
TZOFFSETFROM:+0200
TZOFFSETTO:+0100
TZNAME:CET
DTSTART:20241027T010000
END:STANDARD
BEGIN:DAYLIGHT
TZOFFSETFROM:+0100
TZOFFSETTO:+0200
TZNAME:CEST
DTSTART:20250330T010000
END:DAYLIGHT
BEGIN:STANDARD
TZOFFSETFROM:+0200
TZOFFSETTO:+0100
TZNAME:CET
DTSTART:20251026T010000
END:STANDARD
BEGIN:DAYLIGHT
TZOFFSETFROM:+0100
TZOFFSETTO:+0200
TZNAME:CEST
DTSTART:20260329T010000
END:DAYLIGHT
BEGIN:STANDARD
TZOFFSETFROM:+0200
TZOFFSETTO:+0100
TZNAME:CET
DTSTART:20261025T010000
END:STANDARD
END:VTIMEZONE
BEGIN:VEVENT
DTSTART;TZID=Europe/Paris:20250501T100000
DTEND;TZID=Europe/Paris:20250501T161000
DTSTAMP:20260423T115342
CREATED:20250213T160331Z
LAST-MODIFIED:20250414T123035Z
UID:5284-1746093600-1746115800@bleniobellissima.ch
SUMMARY:Arte e fede: viaggio nel romanico bleniese
DESCRIPTION:Info e Riservazione: Iscrizione entro il 28.04 a Monica Pongelli\, info@ronco-botanica.ch\, +41 (0)79 610 77 35In caso di meteo incerta\, o per altre cause di forza maggiore\, i partecipanti saranno avvertiti dell’annullamento della gita due giorni prima della data prevista. \n\n\n\nDescrizione: Escursione alla scoperta del nostro passato ancora «vivente». Il cammino parte da Ludiano per raggiungere e visitare l’oratorio romanico di San Remigio a Corzoneso\, un autentico gioiello storico incastonato nel verde. Lungo il percorso attraverseremo antichi borghi e antichi sentieri\, scoprendo altri edifici sacri di grande valore\, testimoni silenziosi di un passato ricco di fascino e spiritualità; ci immergeremo in un paesaggio dove la natura si intreccia con la memoria del tempo\, attraverso scorci incantevoli per un’esperienza unica tra storia e bellezza. Ospite alla gita Francesca Reichlin\, conservatrice – restauratrice. \n\n\n\nCosto: 25.- CHF\, pagabili in contanti e/o TWINT \n\n\n\n\n\n\n\nOrario e luogo di ritrovo:10:00 Chiesa San Pietro di Motto a Ludiano – di fianco alla chiesa c’è uno sterrato dove lasciare le auto. Per chi arriva con autobus la fermata più vicina è Motto-Ludiano. Link in maps: in aggiornamento \n\n\n\nPranzo: al sacco \n\n\n\nOrario e luogo di rilascio:16:00 Chiesa San Pietro di Motto a Ludiano – di fianco alla chiesa c’è uno sterrato dove lasciare le auto. Per chi arriva con autobus la fermata più vicina è Motto-Ludiano. Link in maps:  in aggiornamento \n\n\n\nDifficoltà Condizione fisica: facile\, nessuna in particolareTempo di percorrenza:  1h45Dislivello: +139/-139Lunghezza percorso: 6.2 kmTipo di percorso: parzialmente su asfalto e sterrato \n\n\n\n\n\n\n\nAccompagnamento: Monica Pongelli\, accompagnatrice di visite guidate con diploma cantonale \n\n\n\nPrima di partire vi raccomandiamo di verificare se l’itinerario è adatto alle vostre capacità (durata complessiva di marcia e dislivelli) e di avere l’equipaggiamento adeguato (scarponcini\, vestiti caldi e maglia di ricambio\, berretto\, guanti\, protezioni contro il sole e il vento\, bastoni e ciaspole o ramponcini se necessario\, thermos con bevanda calda\, farmacia personale). \n\n\n\nImportante: Blenio Bellissima e la responsabile dell’escursione non si assumono responsabilità né costi in relazione ad infortuni\, incidenti o danni che possono occorrere ai partecipanti o alle loro proprietà.Ognuno è tenuto ad avere una propria assicurazione infortunio e RC privata. \n\n\n\n\n\n\n\n \n\n\n\n \n\n\n\n\n\n\n\nCon il sostegno delle Autolinee Bleniesi \n\n\n\n\n\n\n\nLa chiesa di San Carlo Borromeo\, originariamente dedicata a Sant’Ambrogio  vecchio a Negrentino
URL:https://bleniobellissima.ch/camminata/arte-e-fede-viaggio-nel-romanico-bleniese/
CATEGORIES:Sentieri naturalistici
ATTACH;FMTTYPE=image/jpeg:https://bleniobellissima.ch/wp-content/uploads/2021/01/20200405_160333-scaled.jpg
END:VEVENT
BEGIN:VEVENT
DTSTART;TZID=Europe/Paris:20250524T090000
DTEND;TZID=Europe/Paris:20250524T160000
DTSTAMP:20260423T115342
CREATED:20250414T113424Z
LAST-MODIFIED:20250414T122912Z
UID:5400-1748077200-1748102400@bleniobellissima.ch
SUMMARY:Caccia alle erbe commestibili
DESCRIPTION:Info e Riservazione: Iscrizione obbligatoria entro il 24 maggio presso la responsabile della gita Manuela Vigilante\, tiprendopermanu@gmail.com oppure al numero: +41 (0)79 291 37 92.  (preferenza messaggi)In caso di meteo incerta\, o per altre cause di forza maggiore\, i partecipanti saranno avvertiti dell’annullamento della gita due giorni prima della data prevista. \n\n\n\nDescrizione: La naturalista Arianna Alghisio ci darà delle indicazioni rispetto a 7 o 8 erbe che potremo trovare in quel periodo durante il nostro percorso\, ci mostrerà delle foto o degli esemplari e ci spiegherà dove trovarle e come riconoscerle. Ogni partecipante dovrà\, seguendo le indicazioni ricevute\, cercare durante il percorso alcune delle erbe illustrate.Non è prevista la raccolta vera e propria\, ma la ricerca e il riconoscimento mirati.Alla fine della gita verranno distribuite delle ricette per l’utilizzo delle erbe scoperte. \n\n\n\nCosto: 25.-  \n\n\n\n\n\n\n\nOrario e luogo di ritrovo: 08:55 Olivone fermata PetulloPartenza: dal luogo di ritrovoPranzo: al saccoOrario e luogo di rilascio: 16:00 Aquila paese \n\n\n\nLunghezza: 7.6 kmDurata: 2h30 di cammino effettivoDislivello(+salita/-discesa m): +350/-540 mDifficoltà: Normale\, T2 (sentiero di montagna) \n\n\n\nCome arrivarePrivilegiare il trasporto pubblico.Mezzi pubblici:Autopostale\, partenza da Biasca stazione ore 8:11 – arrivo alla fermata Olivone Petullo\, ore 8:51.Autopostale\, partenza da Aquila Paese ore 16:15 – arrivo a Biasca stazione ore 16:51Mezzi privati:Si consiglia di posteggiare ad Aquila\, in modo da ritrovare l’auto alla fine del tragitto\, e di prendere il bus in direzione Olivone alla fermata Aquila Paese alle 8:42. (si chiede di organizzarsi per il car sharing\, la capogita può mettere in contatto i partecipanti che arrivano da luoghi vicini). \n\n\n\n\n\n\n\nAccompagnamento: Manuela Vigilante\, accompagnatrice di visite guidate con diploma cantonale \n\n\n\nPrima di partire vi raccomandiamo di verificare se l’itinerario è adatto alle vostre capacità (durata complessiva di marcia e dislivelli) e di avere l’equipaggiamento adeguato (scarponcini\, vestiti caldi e maglia di ricambio\, berretto\, guanti\, protezioni contro il sole e il vento\, bastoni e ciaspole o ramponcini se necessario\, thermos con bevanda calda\, farmacia personale). \n\n\n\nScarponi da montagna o da trekking\, vestiti adatti alla stagione\, zaino comodo con pranzo al sacco e bibite\, equipaggiamento in caso di pioggia e vento\, eventualmente bastoncini da trekking\, guanti\, berretto e farmacia personale (in particolare medicamenti). \n\n\n\nImportante: Blenio Bellissima e la responsabile dell’escursione non si assumono responsabilità né costi in relazione ad infortuni\, incidenti o danni che possono occorrere ai partecipanti o alle loro proprietà.Ognuno è tenuto ad avere una propria assicurazione infortunio e RC privata. \n\n\n\n\n\n\n\n \n\n\n\n \n\n\n\n\n\n\n\nCon il sostegno delle Autolinee Bleniesi \n\n\n\n\n\n\n\nCaccia alle erbe commestibili
URL:https://bleniobellissima.ch/camminata/caccia-alle-erbe-commestibili-2/
CATEGORIES:Sentieri naturalistici
END:VEVENT
BEGIN:VEVENT
DTSTART;TZID=Europe/Paris:20250529T100000
DTEND;TZID=Europe/Paris:20250529T160000
DTSTAMP:20260423T115342
CREATED:20250512T132000Z
LAST-MODIFIED:20250512T133712Z
UID:5425-1748512800-1748534400@bleniobellissima.ch
SUMMARY:Un viaggio immersivo tra arte\, natura e storia
DESCRIPTION:Info e Riservazione: Iscrizione entro il 27.05 a Monica Pongelli\, info@ronco-botanica.ch\, +41 (0)79 610 77 35In caso di meteo incerta\, o per altre cause di forza maggiore\, i partecipanti saranno avvertiti dell’annullamento della gita due giorni prima della data prevista. \n\n\n\nDescrizione: Il nostro cammino ci porterà a esplorare la suggestiva chiesa romanica di Negrentino\, dove arte e spiritualità si fondono nel silenzio dei boschi e nella bellezza primaverile dei paesaggi montani. Partiamo dalla Vecchia Stazione di Acquarossa per risalire\, tra sentieri e mulattiere storiche\, verso questo incredibile gioiello di arte e architettura medioevale\, rinomato per i suoi dipinti murali millenari. Il percorso\, ricco di tappe affascinanti\, ci guiderà in un viaggio immersivo tra arte\, natura e memoria\, per un’esperienza che incanterà occhi e spirito. \n\n\n\nCosto: 25.- CHF\, pagabili in contanti e/o TWINT \n\n\n\n\n\n\n\nOrario e luogo di ritrovo:10:00 Vecchia Stazione di AcquarossaPranzo: al saccoOrario e luogo di rilascio:16:00 Vecchia Stazione di Acquarossa \n\n\n\nDifficoltà Condizione fisica: media (percorso in salita su mulattiera per salire alla Chiesa\, ma con tante pause intermedie per ammirare la natura circostante). A proprio agio su sentieri di montagna.Tempo di percorrenza: 2h effettiveDislivello: +393/-393Lunghezza percorso: 4.8 kmTipo di percorso: su sentiero di montagna e parzialmente su asfalto \n\n\n\n\n\n\n\nAccompagnamento: Monica Pongelli\, accompagnatrice di visite guidate con diploma cantonale \n\n\n\nPrima di partire vi raccomandiamo di verificare se l’itinerario è adatto alle vostre capacità (durata complessiva di marcia e dislivelli) e di avere l’equipaggiamento adeguato (scarponcini\, vestiti caldi e maglia di ricambio\, berretto\, guanti\, protezioni contro il sole e il vento\, bastoni e ciaspole o ramponcini se necessario\, thermos con bevanda calda\, farmacia personale). \n\n\n\nImportante: Blenio Bellissima e la responsabile dell’escursione non si assumono responsabilità né costi in relazione ad infortuni\, incidenti o danni che possono occorrere ai partecipanti o alle loro proprietà.Ognuno è tenuto ad avere una propria assicurazione infortunio e RC privata. \n\n\n\n\n\n\n\n \n\n\n\n \n\n\n\n\n\n\n\nCon il sostegno delle Autolinee Bleniesi \n\n\n\n\n\n\n\nUn viaggio immersivo tra arte\, natura e storia
URL:https://bleniobellissima.ch/camminata/un-viaggio-immersivo-tra-arte-natura-e-storia/
CATEGORIES:Sentieri naturalistici
END:VEVENT
END:VCALENDAR