BEGIN:VCALENDAR
VERSION:2.0
PRODID:-//BlenioBellissima - ECPv6.15.19//NONSGML v1.0//EN
CALSCALE:GREGORIAN
METHOD:PUBLISH
X-ORIGINAL-URL:https://bleniobellissima.ch
X-WR-CALDESC:Eventi per BlenioBellissima
REFRESH-INTERVAL;VALUE=DURATION:PT1H
X-Robots-Tag:noindex
X-PUBLISHED-TTL:PT1H
BEGIN:VTIMEZONE
TZID:Europe/Paris
BEGIN:DAYLIGHT
TZOFFSETFROM:+0100
TZOFFSETTO:+0200
TZNAME:CEST
DTSTART:20240331T010000
END:DAYLIGHT
BEGIN:STANDARD
TZOFFSETFROM:+0200
TZOFFSETTO:+0100
TZNAME:CET
DTSTART:20241027T010000
END:STANDARD
BEGIN:DAYLIGHT
TZOFFSETFROM:+0100
TZOFFSETTO:+0200
TZNAME:CEST
DTSTART:20250330T010000
END:DAYLIGHT
BEGIN:STANDARD
TZOFFSETFROM:+0200
TZOFFSETTO:+0100
TZNAME:CET
DTSTART:20251026T010000
END:STANDARD
BEGIN:DAYLIGHT
TZOFFSETFROM:+0100
TZOFFSETTO:+0200
TZNAME:CEST
DTSTART:20260329T010000
END:DAYLIGHT
BEGIN:STANDARD
TZOFFSETFROM:+0200
TZOFFSETTO:+0100
TZNAME:CET
DTSTART:20261025T010000
END:STANDARD
END:VTIMEZONE
BEGIN:VEVENT
DTSTART;TZID=Europe/Paris:20250405T085000
DTEND;TZID=Europe/Paris:20250405T160000
DTSTAMP:20260423T142643
CREATED:20250213T155718Z
LAST-MODIFIED:20250317T154146Z
UID:5277-1743843000-1743868800@bleniobellissima.ch
SUMMARY:Passi in poesia
DESCRIPTION:Info e Riservazione: Iscrizione obbligatoria entro il 3 aprile presso la responsabile della gita Manuela Vigilante\, tiprendopermanu@gmail.com oppure al numero: +41 (0)79 291 37 92.  (preferenza messaggi)In caso di meteo incerta\, o per altre cause di forza maggiore\, i partecipanti saranno avvertiti dell’annullamento della gita due giorni prima della data prevista. \n\n\n\nDescrizione: Al mattino si farà una gita ad anello sopra Olivone\, passando da un ponte tibetano. Si consumerà un pranzo caldo presso “casa vaticano” a Olivone e nel pomeriggio si farà un’attività con una delle 7 tecniche del metodo Caviardage.Per informazioni sul metodo Caviardage di Tina Festa consultare: www.caviardage.it \n\n\n\nCosto: 50.- CHF (30.- per la gita\, 15.- per il pranzo e 5.- per il materiale).Pagabile sul momento in contanti o via Twint \n\n\n\n\n\n\n\nOrario e luogo di ritrovo:08:50 parcheggio e fermata autopostale Municipio Olivone (arrivo del bus da Biasca ore 8:47)Orario e luogo di rilascio16:00 parcheggio e fermata autopostale Municipio Olivone (partenza del bus per Biasca 16:10) \n\n\n\nDifficoltà Condizione fisica:↑210 m ↓210 m per 5\,5 km – Sentiero di montagna tracciatoDifficoltà ●●○○○ – Condizione fisica ●●○○○ \n\n\n\n \n\n\n\n\n\n\n\nAccompagnamento: Manuela Vigilante\, accompagnatrice di visite guidate con diploma cantonale \n\n\n\nPrima di partire vi raccomandiamo di verificare se l’itinerario è adatto alle vostre capacità (durata complessiva di marcia e dislivelli) e di avere l’equipaggiamento adeguato (scarponcini\, vestiti caldi e maglia di ricambio\, berretto\, guanti\, protezioni contro il sole e il vento\, bastoni e ciaspole o ramponcini se necessario\, thermos con bevanda calda\, farmacia personale). \n\n\n\nImportante: Blenio Bellissima e la responsabile dell’escursione non si assumono responsabilità né costi in relazione ad infortuni\, incidenti o danni che possono occorrere ai partecipanti o alle loro proprietà.Ognuno è tenuto ad avere una propria assicurazione infortunio e RC privata. \n\n\n\n\n\n\n\n \n\n\n\n \n\n\n\n\n\n\n\nCon il sostegno delle Autolinee Bleniesi \n\n\n\n\n\n\n\nPassi in poesia in Valle di Blenio
URL:https://bleniobellissima.ch/camminata/passi-in-poesia/
CATEGORIES:Sentieri naturalistici
END:VEVENT
BEGIN:VEVENT
DTSTART;TZID=Europe/Paris:20250411T093000
DTEND;TZID=Europe/Paris:20250411T163000
DTSTAMP:20260423T142643
CREATED:20250213T164518Z
LAST-MODIFIED:20250410T185111Z
UID:5290-1744363800-1744389000@bleniobellissima.ch
SUMMARY:Edifici del passato nella Medio - Bassa Valle di Blenio
DESCRIPTION:Oppure domenica 13.04.2025 \n\n\n\nInfo e Riservazione: entro il 09.04 alle responsabili della gita\, Ulla Fattorini\, stella02teo@gmail.com 079 222 66 44\, Maruska Bianchi\, mail maruska.bi@bluewin.ch\, 079 463 00 66.In caso di meteo o per altre cause di forza maggiore\, i/le partecipanti saranno informati/e dell’annullamento della gita un giorno prima della data prevista. Se qualcuno fosse impossibilitato/a a partecipare\, avvisare con tempestività la capogita. \n\n\n\nDescrizione: Passeggiata da Acquarossa a Malvaglia percorrendo le vie storiche. Lasciatevi catturare dagli edifici e dalle storie del passato legate alla miseria e all’immigrazione che hanno segnato questi luoghi.Rientro con autopostale ad Acquarossa. \n\n\n\nPranzo: organizzato a pagamento \n\n\n\nCosto: 25.- CHF\, pagabile via twint o sul momento in contanti.Costi aggiuntivi: postale\, pranzo a CHF 25.-\, bibite escluse  \n\n\n\n\n\n\n\nOrario e luogo di ritrovo:9.30: Fermata autopostale Acquarossa-Comprovasco StazioneOrario e luogo di rilascio:16.30: Fermata autopostale Acquarossa-Comprovasco Stazione \n\n\n\nDifficoltà: facile  / Condizione fisica: nessuna in particolare \n\n\n\nDislivelli:                             ↑50m ↓210mLunghezza del percorso:   8 kmTempo di marcia:               2 h effettiveTipo di percorso:               strada e sentieri sterrati T1 \n\n\n\n\n\n\n\nAccompagnamento: Ulla Fattorini e Maruska Bianchi\, accompagnatrici di visite guidate con diploma cantonale \n\n\n\nPrima di partire vi raccomandiamo di verificare se l’itinerario è adatto alle vostre capacità (durata complessiva di marcia e dislivelli) e di avere l’equipaggiamento adeguato (scarponcini\, vestiti caldi e maglia di ricambio\, berretto\, guanti\, protezioni contro il sole e il vento\, bastoni e ciaspole o ramponcini se necessario\, thermos con bevanda calda\, farmacia personale). \n\n\n\nImportante: Blenio Bellissima e la responsabile dell’escursione non si assumono responsabilità né costi in relazione ad infortuni\, incidenti o danni che possono occorrere ai partecipanti o alle loro proprietà.Ognuno è tenuto ad avere una propria assicurazione infortunio e RC privata. \n\n\n\n\n\n\n\n \n\n\n\n\n\n\n\nCon il sostegno delle Autolinee Bleniesi \n\n\n\n\n\n\n\nEdifici del passato nella media bassa Valle del Sole
URL:https://bleniobellissima.ch/camminata/edifici-del-passato-nella-media-bassa-valle-del-sole-in-bicicletta/
CATEGORIES:Sentieri naturalistici
END:VEVENT
BEGIN:VEVENT
DTSTART;TZID=Europe/Paris:20250413T100000
DTEND;TZID=Europe/Paris:20250413T160000
DTSTAMP:20260423T142643
CREATED:20250313T164623Z
LAST-MODIFIED:20250314T083405Z
UID:5325-1744538400-1744560000@bleniobellissima.ch
SUMMARY:Cavalcare con la testa alla scoperta di alcuni luoghi storici
DESCRIPTION:Cavalcare con la testa in valle di Blenio \n\n\n\nInfo e Riservazione: iscrizione entro giovedì 10 aprile\, Luca Solari\, e-mail lusol@ticino.com tel. 079 544 54 92 (dalle 17.00 in avanti\, oppure messaggi su WhatsApp).In caso di meteo incerta\, o per altre cause di forza maggiore\, i partecipanti saranno avvertiti dell’annullamento della gita due giorni prima della data prevista. \n\n\n\nDescrizione: la proposta prevede una breve visita alla scuderia Wyder di Aquila e un avvicinamento dolce al cavallo. Dopo alcuni giri all’interno del maneggio si partirà per un percorso di un paio d’ore alla scoperta di alcuni luoghi storici della regione.Dato che la gita è adatta anche ai principianti\, ci saranno due persone per ogni cavallo che si alterneranno a rimanere in sella e a camminare conducendo il cavallo per la cavezza. Verso le 13.00 è previsto il pranzo al sacco presso la scuderia. Alle 14.30 ci sarà una visita guidata al Caseificio del Sole\, con degustazione di alcuni prodotti tipici e possibilità di fare degli acquisti sul posto. \n\n\n\nCosto: 65.- CHF (posti limitati\, verranno considerati in ordine di iscrizione e di pagamento). Pagabili al momento dell’iscrizione sul conto CH48 8080 8007 4803 7006 5 / Banca Raiffeisen Tre Valli 6710 Biasca intestato a Luca Solari oppure tramite Twint: 079 544 54 92.In caso di assenza per giustificati motivi i soldi verranno restituiti. In caso di brutto tempo la gita verrà recuperata. \n\n\n\nOrario e luogo di ritrovo:09.45Scuderia Wyder Aquila\n\n\n\nOrario e luogo di rilascio:16.00 Scuderia Wyder Aquila\n\n\n\nDifficoltà ●○○○○ facile / Condizione fisica ●●○○○○ media/buona \n\n\n\nLunghezza cavalcata: 4 km\, strada sterrata/asfaltataAccompagnamento: Luca Solari\, docente e Oscar Wyder\, proprietario allevamento cavalli \n\n\n\nEquipaggiamento: chi ha il proprio equipaggiamento adatto a cavalcare è invitato a portarlo. \n\n\n\nPrima di partire vi raccomandiamo di verificare se la proposta è adatta alle vostre capacità e se avete l’equipaggiamento adeguato. Importante: Blenio Bellissima e i responsabili dell’escursione non si assumono responsabilità né costi in relazione ad infortuni\, incidenti o danni che possono occorrere ai partecipanti o alle loro proprietà.Ognuno è tenuto ad avere una propria assicurazione infortunio e RC privata. \n\n\n\n\n\n\n\n \n\n\n\n \n\n\n\n\n\n\n\nCon il sostegno delle Autolinee Bleniesi \n\n\n\n\n\n\n\nNovità 2025: Cavalcare con la testa in valle di Blenio
URL:https://bleniobellissima.ch/camminata/cavalcare-con-la-testa-alla-scoperta-di-alcuni-luoghi-storici/
CATEGORIES:Sentieri naturalistici
END:VEVENT
BEGIN:VEVENT
DTSTART;TZID=Europe/Paris:20250414T093000
DTEND;TZID=Europe/Paris:20250414T163000
DTSTAMP:20260423T142643
CREATED:20250320T131547Z
LAST-MODIFIED:20250410T185833Z
UID:5367-1744623000-1744648200@bleniobellissima.ch
SUMMARY:Anteprima gite con Ulla e Maruska maggio - ottobre
DESCRIPTION:Info e Riservazione: Ulla Fattorini\, stella02teo@gmail.com 079 222 66 44\, Maruska Bianchi\, mail maruska.bi@bluewin.ch\, 079 463 00 66.In caso di meteo o per altre cause di forza maggiore\, i/le partecipanti saranno informati/e dell’annullamento della gita un giorno prima della data prevista. \n\n\n\nDescrizione:  \n\n\n\n\n🚶‍♂️‍➡️Edifici del passato nella Medio Bassa Valle del Sole: camminata facile seguendo strade sterrate (T1) in sponda sinistra\, da Comprovasco a Malvaglia. Pranzo al Ristorante Tre Vie a MottoDate: ve 11.4.2025 / do 13.4.2025 / ve 17.10.2025 (data con programma pomeridiano e cena presso la Casa Gatti di Motto)\n\n\n\n🚴🏻 Edifici del passato nella Medio Bassa Valle del Sole: in mountain bike/e-bike\, giro ad anello su sentieri e strade sterrate\, percorrendo anche la sponda destra della Valle. Pranzo al Grotto Milani di Ludiano.Date: do 18.5.2025 / do 22.6.2025 / do 14.9.2025\n\n\n\n🚶🏻‍➡️Ricordi di un ghiacciaio nella Valle di Santa Maria: passeggiata su sentieri con difficoltà medio-facile (T2) dal Passo del Lucomagno verso Acquacalda\, ammirando i segni lasciati dal passaggio dei ghiacciai.Data: sa 14.6.2025\n\n\n\n🚶🏼‍♀️‍➡️Brenno\, Alpeggi\, Selvasecca: giro circolare nella Valle di Santa Maria su sentieri T2 alla scoperta del fiume Brenno e la sua magnifica sorgente\, attraversando gli alpeggi e la magica Selvasecca. Pranzo da definire.Data: do 13.7.2025\n\n\n\n🚶🏾‍♂️‍➡️Tradizioni della Valle in un’azienda agricola: da Olivone\, salendo per la vecchia mulattiera dell’Orrido del Sosto\, si arriva a Campo Blenio\, giro nella Valle di Campo (percorso con difficoltà T2) e visita a un’azienda agricola con possibilità di preparare un formaggino e/o fare un aperitivo a base di prodotti a km 0.Data: ve 22.8.2025\n\n\n\n🚶‍♀️‍➡️Letture e aneddoti costeggiando il Lago di Santa Maria: passeggiata su sentieri facili (T1) attorno al Lago\, ascoltando storie e aneddoti della zona. Pranzo al sacco.Data: do 24.8.2025\n\n\n\n\nCosto: chiedere alle guide \n\n\n\n\n\n\n\nAccompagnamento: Ulla Fattorini e Maruska Bianchi\, accompagnatrici di visite guidate con diploma cantonale \n\n\n\nPrima di partire vi raccomandiamo di verificare se l’itinerario è adatto alle vostre capacità (durata complessiva di marcia e dislivelli) e di avere l’equipaggiamento adeguato (scarponcini\, vestiti caldi e maglia di ricambio\, berretto\, guanti\, protezioni contro il sole e il vento\, bastoni e ciaspole o ramponcini se necessario\, thermos con bevanda calda\, farmacia personale). \n\n\n\nImportante: Blenio Bellissima e la responsabile dell’escursione non si assumono responsabilità né costi in relazione ad infortuni\, incidenti o danni che possono occorrere ai partecipanti o alle loro proprietà.Ognuno è tenuto ad avere una propria assicurazione infortunio e RC privata. \n\n\n\n\n\n\n\n \n\n\n\n\n\n\n\nCon il sostegno delle Autolinee Bleniesi \n\n\n\n\n\n\n\nEdifici del passato nella media bassa Valle del Sole
URL:https://bleniobellissima.ch/camminata/anteprima-gite-con-ulla-e-maruska-maggio-ottobre/
CATEGORIES:Sentieri naturalistici
END:VEVENT
END:VCALENDAR