BEGIN:VCALENDAR
VERSION:2.0
PRODID:-//BlenioBellissima - ECPv6.15.19//NONSGML v1.0//EN
CALSCALE:GREGORIAN
METHOD:PUBLISH
X-ORIGINAL-URL:https://bleniobellissima.ch
X-WR-CALDESC:Eventi per BlenioBellissima
REFRESH-INTERVAL;VALUE=DURATION:PT1H
X-Robots-Tag:noindex
X-PUBLISHED-TTL:PT1H
BEGIN:VTIMEZONE
TZID:Europe/Paris
BEGIN:DAYLIGHT
TZOFFSETFROM:+0100
TZOFFSETTO:+0200
TZNAME:CEST
DTSTART:20230326T010000
END:DAYLIGHT
BEGIN:STANDARD
TZOFFSETFROM:+0200
TZOFFSETTO:+0100
TZNAME:CET
DTSTART:20231029T010000
END:STANDARD
BEGIN:DAYLIGHT
TZOFFSETFROM:+0100
TZOFFSETTO:+0200
TZNAME:CEST
DTSTART:20240331T010000
END:DAYLIGHT
BEGIN:STANDARD
TZOFFSETFROM:+0200
TZOFFSETTO:+0100
TZNAME:CET
DTSTART:20241027T010000
END:STANDARD
BEGIN:DAYLIGHT
TZOFFSETFROM:+0100
TZOFFSETTO:+0200
TZNAME:CEST
DTSTART:20250330T010000
END:DAYLIGHT
BEGIN:STANDARD
TZOFFSETFROM:+0200
TZOFFSETTO:+0100
TZNAME:CET
DTSTART:20251026T010000
END:STANDARD
END:VTIMEZONE
BEGIN:VEVENT
DTSTART;TZID=Europe/Paris:20241231T080000
DTEND;TZID=Europe/Paris:20241231T170000
DTSTAMP:20260423T193036
CREATED:20241111T125001Z
LAST-MODIFIED:20241209T091238Z
UID:5227-1735632000-1735664400@bleniobellissima.ch
SUMMARY:Idee per le gite 2025
DESCRIPTION:Camminare con la testa alla scoperta del territorio della Valle di Blenio.\n\n\n\nElenco delle proposte nel 2024. Seguiranno le schede dettagliate. Potete contattare la guida diplomata AVIG (Accompagnatrice di visite guidate con diploma cantonale) per le prime informazioni. \n\n\n\nNovità per il 2025 Scegliete una gita proposta nel 2024 elencate di seguito\, create un gruppo di 8-10 persone e contattate la responsabile che trovate nella pagina della gita. \n\n\n\n \n\n\n\nPAGINA IN COSTRUZIONE \n\n\n\n\n\n\n\nCapo gita(email)\nOspite
URL:https://bleniobellissima.ch/camminata/programma-gite-2025/
ATTACH;FMTTYPE=image/jpeg:https://bleniobellissima.ch/wp-content/uploads/2024/05/BlenioBellissima-LOGO-1024x419-1.jpg
END:VEVENT
END:VCALENDAR