BEGIN:VCALENDAR
VERSION:2.0
PRODID:-//BlenioBellissima - ECPv6.15.19//NONSGML v1.0//EN
CALSCALE:GREGORIAN
METHOD:PUBLISH
X-WR-CALNAME:BlenioBellissima
X-ORIGINAL-URL:https://bleniobellissima.ch
X-WR-CALDESC:Eventi per BlenioBellissima
REFRESH-INTERVAL;VALUE=DURATION:PT1H
X-Robots-Tag:noindex
X-PUBLISHED-TTL:PT1H
BEGIN:VTIMEZONE
TZID:Europe/Paris
BEGIN:DAYLIGHT
TZOFFSETFROM:+0100
TZOFFSETTO:+0200
TZNAME:CEST
DTSTART:20230326T010000
END:DAYLIGHT
BEGIN:STANDARD
TZOFFSETFROM:+0200
TZOFFSETTO:+0100
TZNAME:CET
DTSTART:20231029T010000
END:STANDARD
BEGIN:DAYLIGHT
TZOFFSETFROM:+0100
TZOFFSETTO:+0200
TZNAME:CEST
DTSTART:20240331T010000
END:DAYLIGHT
BEGIN:STANDARD
TZOFFSETFROM:+0200
TZOFFSETTO:+0100
TZNAME:CET
DTSTART:20241027T010000
END:STANDARD
BEGIN:DAYLIGHT
TZOFFSETFROM:+0100
TZOFFSETTO:+0200
TZNAME:CEST
DTSTART:20250330T010000
END:DAYLIGHT
BEGIN:STANDARD
TZOFFSETFROM:+0200
TZOFFSETTO:+0100
TZNAME:CET
DTSTART:20251026T010000
END:STANDARD
END:VTIMEZONE
BEGIN:VEVENT
DTSTART;TZID=Europe/Paris:20241103T094500
DTEND;TZID=Europe/Paris:20241103T150000
DTSTAMP:20260423T205925
CREATED:20241030T102922Z
LAST-MODIFIED:20241111T124555Z
UID:5188-1730627100-1730646000@bleniobellissima.ch
SUMMARY:Cammin leggendo
DESCRIPTION:Info e Riservazione:  \n\n\n\nIscrizioni entro il 2 novembre all’indirizzo mail: tiprendopermanu@gmail.com oppure alnumero: +41 (0)79 291 37 92 (Manuela Vigilante).In caso di meteo incerta\, o per altre cause di forza maggiore\, i partecipanti saranno avvertiti dell’annullamento della gita due giorni prima della data prevista. \n\n\n\nCosto: 25.- franchi p.p.  \n\n\n\nPercorreremo il sentiero da Ludiano fino a Navone e ritorno\, passando dal Castello diSerravalle.Lungo il percorso si faranno diverse soste per ascoltare brani tratti dal libro “L’aria dalbasso” di Sandro Beretta (di Leontica) e letti da Paolo Buletti e brani tratti da altri librie ispirati dai luoghi che andremo a visitare\, letti da Manuela Vigilante.Si farà una sosta anche attorno ad un castagno secolare. \n\n\n\n\n\n\n\nProgramma\n\n\n\n\n\nOra e luogo d’incontro\n9.409.45\nLudiano piazza\n\n\nPartenza\n9.45\nDal luogo di ritrovo\n\n\nPranzo\n \nAl sacco\n\n\nOra e luogo di rientro\n16.00\nLudiano piazza\n\n\n\n\n\n\n\n\n\nInfo tecniche\n\n\n\n\n\nLunghezza:\n 5.7km \n\n\nDurata :\n2h10 di cammino effettivo\n\n\nDislivello (+salita/-discesa m):\n+ 430/ – 430\n\n\nDifficoltà:\nNormale\, T2 (sentiero di montagna)\n\n\nEquipaggiamento\nScarponi da montagna o da trekking\, vestiti adatti alla stagione\, zaino comodo con pranzo al sacco e bibite\, crema solare\, equipaggiamento in caso di pioggia e vento\, bastoncini da trekking e farmacia personale (in particolare medicamenti).\n\n\nDa sapere\nPrima di partire vi raccomandiamo di verificare se l’itinerario è adatto alle vostre capacità (durata complessiva di pedalata e dislivelli) e di avere l’equipaggiamento adeguato\n\n\n\nAccompagnamento: Manuela Vigilante\, accompagnatrice di visite guidate con diploma cantonale (AVIG) \nCome arrivare: privilegiare il trasporto pubblico.Mezzi pubblici: Andata: autopostale\, partenza da Biasca stazione ore 9:11 – arrivo alla fermata Ludiano Piazza\, ore 9:36.Ritorno: autopostale\, partenza da Ludiano Piazza ore 15:36 – arrivo a Biasca stazione ore 15:52Mezzi privati: A Ludiano Piazza sono disponibili diversi posteggi gratuiti. Si chiede di organizzarsi per il car sharing (la capogita può mettere in contatto i partecipanti che arrivano da luoghi vicini). \nUlteriori informazioni\n\n\nFacile passeggiata con letture sulla valle di Blenio\n\n\n\nCon il sostegno delle Autolinee Bleniesi
URL:https://bleniobellissima.ch/camminata/camminare-leggendo/
ATTACH;FMTTYPE=image/jpeg:https://bleniobellissima.ch/wp-content/uploads/2024/10/passeggiata-lettura.jpg
END:VEVENT
END:VCALENDAR