BEGIN:VCALENDAR
VERSION:2.0
PRODID:-//BlenioBellissima - ECPv6.15.19//NONSGML v1.0//EN
CALSCALE:GREGORIAN
METHOD:PUBLISH
X-ORIGINAL-URL:https://bleniobellissima.ch
X-WR-CALDESC:Eventi per BlenioBellissima
REFRESH-INTERVAL;VALUE=DURATION:PT1H
X-Robots-Tag:noindex
X-PUBLISHED-TTL:PT1H
BEGIN:VTIMEZONE
TZID:UTC
BEGIN:STANDARD
TZOFFSETFROM:+0000
TZOFFSETTO:+0000
TZNAME:UTC
DTSTART:20220101T000000
END:STANDARD
END:VTIMEZONE
BEGIN:VEVENT
DTSTART;TZID=UTC:20230709T103000
DTEND;TZID=UTC:20230709T183000
DTSTAMP:20260419T143905
CREATED:20230606T095101Z
LAST-MODIFIED:20230623T122954Z
UID:4139-1688898600-1688927400@bleniobellissima.ch
SUMMARY:A zonzo per la Belle Époque.
DESCRIPTION:A zonzo per la Belle Époque – Viaggio nel tempo tra la Fabbrica di cioccolato\, pasticcerie e ville d’epoca \n\n\n\n\n\nInfo e Riservazione: iscrizione entro il 5 luglio 2023 a Esmeralda Mattei\, mail esmeraldamattei@gmail.com 079 235 20 86 (dalle 14.00 in avanti\, oppure messaggi su whatsapp).   In caso di meteo incerta\, o per altre cause di forza maggiore\, i partecipanti saranno avvertiti due giorni prima dell’annullamento della gita. Data di riserva\, domenica in settembre\, data da stabilire. Massimo 20 partecipanti. \nCosto: 25.- CHF Costi aggiuntivi: biglietti Autolinee Bleniesi (carta giornaliera 2 zone 9.20 CHF\, ½ prezzo 4.60 CHF)\, Tè con pasticcini (tazza di tè o caffè con pasticcini 24.-CHF). Portare pranzo al sacco per picnic sulla collina di Ingerio (sopra alla Cima Norma). \n  \nTrattandosi di un viaggio nel tempo\, ci serviremo delle ali della fantasia oltre alle possibilità di “teletrasporto” offerteci dalle Autolinee Bleniesi. \nGita-evento culturale. Camminata facile di 3 ore con leggeri dislivelli. \nAlle 10:30 è prevista un’introduzione storica sulla Ferrovia Biasca-Acquarossa\, prendendo spunto dalle foto d’epoca che si trovano sotto la pensilina del Piazzale delle Autolinee Bleniesi. Verranno quindi mostrate le storiche terme di Acquarossa e si racconterà la storia degli anni d’oro di questo stabilimento di cure e relax. \nDangio – TorreColpo d’occhio sulla Fabbrica Cima Norma e al torrente Soia\, fonte del suo approvvigionamento elettrico. Qui si respira ancora l’atmosfera di inizio ‘900 e un membro della Fondazione della Fabbrica del cioccolato rievocherà per noi ricordi e aneddoti sui fasti passati del luogo. \nQuindi si salirà sulla collina di Ingerio\, sopra la Cima Norma\, sulla quale si potrà consumare il proprio picnic godendo di un’imperdibile vista sulla regione del Nara. \nCi sposteremo poi in bus sino a Semione\, dove osserveremo le belle villette d’epoca\, frutto dei guadagni e dei sacrifici dell’emigrazione. \nRisaliremo verso nord a piedi\, costeggiando le rovine del castello di Serravalle\, attraverso facili sentieri che corrono tra prati verdi e ville. Passando per Ludiano\, raggiungeremo Motto\, cammineremo fino a Dongio\, per arrivare in tempo all’appuntamento dell’ora del té alla Pensione Casa Belgeri\, dove in una cornice raffinata e bohemienne\, sorseggeremo una buona tazza di tè e gusteremo pasticcini di squisita fattura artigianale (Céline Shelby Dolci homemade)\,  confezionati con amore proprio per noi\, ascoltando letture che rievocano vicende di dame e signori della belle époque e le brillanti conversazioni dei salotti di inizio del XX secolo. \nUn’altra delle tradizioni artigianali nella Valle di Blenio è la ceramica. Avremo la fortuna di visitare il laboratorio di ceramica artigianale\, dal tornio al forno Paribanù\, aperto apposta per noi\, dove l’estrosa ceramista Elisa Musso ci mostrerà dal vivo l’uso del tornio\, dando vita a creazioni floreali ispirate dallo stile liberty di inizio ‘900. \nRipartiremo alle 18:22 alla volta di Acquarossa\, dove abbandoneremo carrozza e cavalli virtuali\, per rituffarci nel presente e recuperare le nostre autovetture. \nPrima di partire vi raccomandiamo di verificare se l’itinerario è adatto alle vostre capacità (durata complessiva di marcia – dislivelli) e di avere l’equipaggiamento adeguato. \n\n\n\n\n\n\nProgramma\n\n\n\n\n\nOra e luogo d’incontro\n10.30*\nAcquarossa-Comprovasco\, piazzale Autolinee Bleniesi\n\n\nPranzo\n \nal sacco\, zona  collina di Ingerio\n\n\nOra e luogo di rientro\n18.30\nAcquarossa-Comprovasco\, piazzale Autolinee Bleniesi\n\n\n\n\n\nInfo tecniche\n\n\n\n\n\nLunghezza:\n7 km ( a piedi)\n\n\nDurata :\n3 h\n\n\nDislivello (+salita/-discesa m):\n+ 363/ – 180 (percorsi in buona parte con il bus)\n\n\nDifficoltà:\nFacile percorso T1\, adatto a tutti e senza particolari difficoltà. Escursione in italiano facile con possibilità di risposte in E\, D\, F.\n\n\nEquipaggiamento\nScarponi da trekking leggero\, cappellino/fazzoletto/bandana copricapo\, indumenti e giacca impermeabile leggeri\, zaino comodo con borraccia d’acqua\, ev. bastoni\, protezioni contro la pioggia\, il sole e il vento\, farmacia personale (in particolare medicamenti).\n\n\nDa sapere\nAl programma potrebbero essere apportate modifiche\, che verranno comunicate in fase di conferma di iscrizione della gita.\n\n\n\nAccompagnamento: Esmeralda Mattei\, Storica dell’Arte\, Cultural Manager SUPSI\, Accompagnatrice di visite guidate con diploma cantonale (in formazione). \nCome arrivare: privilegiare il trasporto pubblico.Mezzi pubblici: *arrivo ad Acquarossa alle 10.30\, Bus 131 Autolinee bleniesiMezzi privati: fermata bus Acquarossa-Comprovasco (parcheggio gratuito) \n\n\n\n\n\n\nCon il sostegno delle Autolinee Bleniesi\n\n\n\n \n\n\n\n\n\n\n\nUlteriori informazioni\n\n\n\nVilla Belgieri – Dongio
URL:https://bleniobellissima.ch/camminata/a-zonzo-per-la-belle-epoque-viaggio-nel-tempo-tra-la-fabbrica-di-cioccolato-pasticcerie-e-ville-depoca/
CATEGORIES:Sentieri storici,Sentieri tematici
ATTACH;FMTTYPE=image/jpeg:https://bleniobellissima.ch/wp-content/uploads/2023/06/villa-belgeri-bell-epoque2.jpg
END:VEVENT
BEGIN:VEVENT
DTSTART;TZID=UTC:20230712T090000
DTEND;TZID=UTC:20230712T163000
DTSTAMP:20260419T143905
CREATED:20230606T102956Z
LAST-MODIFIED:20230623T121334Z
UID:4167-1689152400-1689179400@bleniobellissima.ch
SUMMARY:Tra gli alpeggi e i monti di Dagro\, un ampio terrazzo con vista
DESCRIPTION:Info e Riservazione: Michelle Minotti\, minotti.michelle@gmail.com\, 079 564 64 07In caso di meteo incerta i partecipanti saranno avvertiti nel gruppo WhatsApp della gitaMassimo 11 partecipanti. Cabina da 4 persone \nCosto: 25.- CHFNon compresi: salita e discesa in filovia Malvaglia 16.- CHF \nGiro ad anello panoramico.Da Dagro parte il sentiero che attraversa lo splendido bosco di abeti e larici detto “Bosco della Cascina” che ci porta sull’ ampio terrazzo sul quale sorge l’Alpe di Prou\, ai piedi della cima di Piancabella. Da questo luogo baciato dal sole e con una vista che spazia dalla Valle di Blenio alla Val Malvaglia proseguiamo il nostro itinerario lungo un sentiero pianeggiante e ci inoltriamo nella Val Malvaglia attraverso un suggestivo percorso che ci porta all’ Alpe di Cióu fino al Prato di Cüm. Da qui il nostro itinerario scende per incrociare il sentiero dei monti che passando da Monda ci riporta a Dagro. \n\n\n\n\n\n\nProgramma\n\n\n\n\n\nOra e luogo d’incontro\n9.00\nPiazzale Posteggio Filovia Malvaglia\, Salita in Filovia Partenza e arrivo della gita a Dagro (1400m.)\n\n\nPranzo\n \nal sacco/ev. merenda a Dagro a carico dei partecipanti\n\n\nOra e luogo di rientro\n16.30\nPiazzale posteggio Filovia Dagro\, Malvaglia\n\n\n\n\n\nInfo tecniche\n\n\n\n\n\nLunghezza:\n11 km \n\n\nDurata :\n4 h\n\n\nDislivello (+salita/-discesa m):\n+ 731m/ – 706m\n\n\nDifficoltà:\nT2 (escursione di montagna)\, senza particolari difficoltà. Dislivello iniziale da Dagro a Prou +600m.\n\n\nDa sapere\n\nIl dislivello iniziale attraverso il bosco da Dagro a Prou è di 600 metri. Sentiero marcato\, senza difficoltà particolari. \nPrima di partire vi raccomandiamo di verificare se l’itinerario è adatto alle vostre capacità (durata complessiva di marcia – dislivelli) e di avere l’equipaggiamento adeguato. \n\n\n\n\nAccompagnamento: Michelle Minotti\, Accompagnatrice di visite guidate con diploma cantonale (in formazione). \nCome arrivare: privilegiare il trasporto pubblico.Mezzi pubblici: Autopostale – fermata “Filovia Malvaglia”Auto: posteggio Filovia Malvaglia  (parcheggio gratuito) \n\n\n\n\n\n\nCon il sostegno delle Autolinee bleniesi\n\n\n\n \n\n\n\n\n\n\n\nLa “villa” di Dagro\, Valle Malvaglia\n\n\n\nFonte: thepictures4you.ch
URL:https://bleniobellissima.ch/camminata/tra-gli-alpeggi-e-i-monti-di-dagro-un-ampio-terrazzo-con-vista/
CATEGORIES:Sentieri storici,Sentieri tematici
ATTACH;FMTTYPE=image/jpeg:https://bleniobellissima.ch/wp-content/uploads/2021/06/ValMalvaglia2.jpg
END:VEVENT
BEGIN:VEVENT
DTSTART;TZID=UTC:20230716T103000
DTEND;TZID=UTC:20230716T170000
DTSTAMP:20260419T143905
CREATED:20230609T060824Z
LAST-MODIFIED:20230623T122451Z
UID:4173-1689503400-1689526800@bleniobellissima.ch
SUMMARY:Di acqua e prodotti locali: seguendo il Brenno e visitando gli alpeggi
DESCRIPTION:Info e Riservazione: iscrizione entro il 14 luglio 2023 a Ulla Fattorini\, stella02teo@gmail.com\, 079 222 66 44 o Maruska Bianchi-Binaghi\, maruska.bi@bluewin.ch\, 079 463 00 66. In caso di meteo incerta\, o per altre cause di forza maggiore\, i partecipanti saranno avvertiti due giorni prima dell’annullamento della gita. Data di riserva\, sabato 27 agosto 2023.Numero massimo partecipanti: 20. Costo: 25.- CHF Costi aggiuntivi: Autolinee Bleniesi/parcheggio\, degustazione e merenda facoltative. \nGiro ad anello partendo dal posteggio dell’Alpe Casaccia\, direzione sorgente del Brenno\, con aperò-pranzo all’Alpe Pertusio\, si prosegue attraversando boschi\, paludi e prati fioriti\, per scendere all’Alpe Pian Segno e ritorno con tappa al Ristorante all’Acquacalda Centro Pro Natura per la merenda. Rientro al posteggio. \n\n\n\n\n\n\nProgramma\n\n\n\n\n\nOra e luogo d’incontro\n10.30\nPosteggio dell’Alpe Casaccia (m 1809)\, raggiungibile anche con i mezzi pubblici.\n\n\nPranzo\n \nPranzo al sacco o aperò-pranzo con prodotti km 0 all’Alpe\n\n\nOra e luogo di rientro\n 17.00\nPosteggio dell’Alpe Casaccia (m 1809)\n\n\n\n\n\nInfo tecniche\n\n\n\n\n\nLunghezza:\n10.2 km \n\n\nDurata :\n3h 30\n\n\nDislivello (+salita/-discesa m):\n+ 400/ – 400\n\n\nDifficoltà:\nMedio\, T2 (sentiero ben tracciato)\n\n\nEquipaggiamento\nScarponi da montagna o da trekking\, vestiti adatti alla stagione\, zaino comodo\, ev. bastoni\, protezioni contro la pioggia\, il sole e il vento\, farmacia personale (in particolare medicamenti)\, bibite\, eventuale pranzo al sacco.\n\n\n\nAccompagnamento: Ulla Fattorini e e Maruska Bianchi Binaghi\, Accompagnatrici di visite guidate con diploma cantonale (in formazione). \nCome arrivare: Privilegiare il trasporto pubblico o la condivisione auto.Mezzi pubblici: Autolinee Bleniesi\, fermata Alpe CasacciaMezzi privati: Parcheggio Alpe Casaccia a pagamento. \n \n\n\n\n\n\n\nCon il sostegno delle Autolinee bleniesi\n\n\n\n \n\n\n\n\n\n\n\nUlteriori informazioni\n\n\n\nalpeggi del Lucomagno . Foto: picture4you.ch
URL:https://bleniobellissima.ch/camminata/di-acqua-e-prodotti-locali-seguendo-il-brenno-e-visitando-gli-alpeggi/
CATEGORIES:Sentieri storici,Sentieri tematici
ATTACH;FMTTYPE=image/jpeg:https://bleniobellissima.ch/wp-content/uploads/2021/07/Lucomagno.jpg
END:VEVENT
BEGIN:VEVENT
DTSTART;TZID=UTC:20230726T090000
DTEND;TZID=UTC:20230726T153000
DTSTAMP:20260419T143905
CREATED:20230710T071927Z
LAST-MODIFIED:20230819T111620Z
UID:4323-1690362000-1690385400@bleniobellissima.ch
SUMMARY:Gorda tra storie\, stelle\, profumi alpini e nido d'aquila
DESCRIPTION:Info e Riservazione: Monica Pongelli\, monica.pongelli@gmail.com\, 079 610 77 35In caso di meteo incerta\, o per altre cause di forza maggiore\, i partecipanti saranno avvertiti dell’annullamento della gita due giorni prima della data prevista. \nCosto: 25.- CHFCosti aggiuntivi: nessuno. \nDalla capanna Gorda (1804 m.) saliamo al rifugio Nido d’Aquila (2194 m.). Ci soffermiamo qua e là a immergerci con i sensi nei colori delle pietre\, nel profumo della natura e nell’ascolto delle storie di famiglia di un tempo di Christiane Maestrani che ci accompagna nella escursione. Toccata la cima\, ritorniamo dalla stessa via fino alla capanna Gorda\, alla scoperta dei dintorni e di GAIA\, un cubo di legno e vetro dove poter soggiornare guardando le stelle (un’iniziativa per un turismo esperienziale al contempo sostenibile). Il luogo è famoso presso le associazioni astronomiche di tutto il mondo per le condizioni ottimali di osservazione delle stelle. Situato a 1804 m su un altopiano\, offre una vista unica e spettacolare della Valle di Blenio\, nonché delle possenti vette e del ghiacciaio circostante. L’escursione dura tutto il giorno\, ma il tempo di percorrenza in cammino è di ca. 3h. \nScarica la locandina \n\n\n\n\n\n\nProgramma\n\n\n\n\n\nOra e luogo d’incontro\n9.00\nPosteggio Capanna Gorda. Non raggiungibile con i mezzi pubblici. Sito Internet della capanna: www.capannagorda-sanda.ch\n\n\nPranzo\n \nPranzo al sacco\n\n\nOra e luogo di rientro\n15.30\nPosteggio Capanna Gorda. Non raggiungibile con i mezzi pubblici. Sito Internet della capanna: www.capannagorda-sanda.ch\n\n\n\n\n\nInfo tecniche\n\n\n\n\n\nLunghezza:\n5.81 km \n\n\nDurata :\n3h di cammino\n\n\nDislivello (+salita/-discesa m):\n+ 531/ – 532\n\n\nDifficoltà:\nNormale T2 (sentiero di montagna)\n\n\nEquipaggiamento\nScarponi da montagna o da trekking\, vestiti adatti alla stagione\, zaino comodo con pranzo al sacco e bibite\, crema solare\, equipaggiamento in caso di pioggia e vento\, bastoncini da trekking e farmacia personale (in particolare medicamenti).\n\n\nDa sapere\nSi richiede buona condizione fisica e familiarità con pendii ripidi e sassosi. L’escursione procede con passo lento per assaporare l’esperienza sensoriale dei profumi della natura e l’ascolto delle narrazioni.Sentiero tracciato ma con tratti ripidi. Prima di partire vi raccomandiamo di verificare se l’itinerario è adatto alle vostre capacità (durata complessiva di marcia – dislivelli) e di avere l’equipaggiamento adeguato. \nGita bilingue italiano/tedesco. \n\n\n\n\nAccompagnamento: Monica Pongelli. \nCome arrivare alla Capanna Gorda in auto: da Largario\, oppure dal 1° tornante della strada del Lucomagno tra Olivone e Camperio\, si imbocca la stradina di montagna seguendo le indicazioni “Piancabella-Gorda” e si percorre la strada fino all’alpe di Gorda.Autopostale: non raggiungibile con i mezzi pubblici \n\n\n\n\n\n\nCon il sostegno delle Autolinee bleniesi\n\n\n\n \n\n\n\n\n\n\n\nUlteriori informazioni\n\n\n\nLa capanna Gorda – Valle di Blenio\nFonte: www.capannagorda-sanda.ch
URL:https://bleniobellissima.ch/camminata/gorda-tra-storie-stelle-profumi-alpini-e-nido-daquila/
CATEGORIES:Sentieri naturalistici,Sentieri tematici
ATTACH;FMTTYPE=image/png:https://bleniobellissima.ch/wp-content/uploads/2023/07/capanna-Gorda2.png
END:VEVENT
BEGIN:VEVENT
DTSTART;TZID=UTC:20230728T090000
DTEND;TZID=UTC:20230728T153000
DTSTAMP:20260419T143905
CREATED:20230609T062209Z
LAST-MODIFIED:20230623T122859Z
UID:4177-1690534800-1690558200@bleniobellissima.ch
SUMMARY:La Gana Negra e i suoi paesaggi fiabeschi
DESCRIPTION:Info e Riservazione: iscrizione entro il 26 luglio 2023 all’indirizzo mail r.beltrami693@gmail.com  a Rita Beltrami 079 489 47 31. In caso di meteo incerta\, o per altre cause di forza maggiore\, i partecipanti saranno avvertiti due giorni prima dell’annullamento della gita. Costo: 25.- CHF Costi aggiuntivi: autopostale dal Passo del Lucomagno all’Alpe Casaccia e costo posteggio auto per chi lascia l’auto all’Alpe. Massimo 20 partecipanti. \nDall’Alpe Casaccia fino alla Gana Negra per poi scendere verso l’Ospizio del Lucomagno\, dove con il postale si ritorna al punto di partenza. La Gana Negra con i suoi sassi neri e i fiori che l’adornano è uno spettacolo fiabesco da non mancare. \n\n\n\n\n\n\nProgramma\n\n\n\n\n\nOra e luogo d’incontro\n8.45\nParcheggio dell’Alpe Casaccia (m 1809)\n\n\nPranzo\n \nPranzo al sacco\n\n\nOra e luogo di rientro\n15.15\nParcheggio dell’Alpe Casaccia (m 1809)\n\n\n\n\n\nInfo tecniche\n\n\n\n\n\nLunghezza:\n7.5 km \n\n\nDurata :\n4h 30\n\n\nDislivello (+salita/-discesa m):\n+ 763/ – 652\n\n\nDifficoltà:\nSi percorrono sentieri tracciati T2\, senza particolari difficoltà tecniche\, ma che richiedono una buona condizione fisica. Sentiero tracciato ma con tratti ripidi. Prima di partire vi raccomandiamo di verificare se l’itinerario è adatto alle vostre capacità (durata complessiva di marcia – dislivelli) e di avere l’equipaggiamento adeguato.\n\n\nEquipaggiamento\nScarponi da montagna o da trekking\, vestiti adatti alla stagione\, zaino comodo con pranzo al sacco e bibite\, ev. bastoni\, protezioni contro la pioggia\, il sole e il vento\, farmacia personale (in particolare medicamenti).\n\n\n\nAccompagnamento: Rita Beltrami\, monitrice ESA\, Accompagnatrice di visite guidate con diploma cantonale (in formazione). Come arrivare: Privilegiare il trasporto pubblico.Mezzi pubblici: Autopostale – fermata Alpe CasacciaMezzi privati: Parcheggio Alpe Casaccia a pagamento \n\n\n\n\n\n\nCon il sostegno delle Autolinee bleniesi\n\n\n\n \n\n\n\n\n\n\n\nUlteriori informazioni\n\n\n\nLa Gana Nera\, Valle di Blenio. Foto: thepictures4you.ch
URL:https://bleniobellissima.ch/camminata/la-gana-negra-e-i-suoi-paesaggi-fiabeschi/
CATEGORIES:Sentieri storici,Sentieri tematici
ATTACH;FMTTYPE=image/jpeg:https://bleniobellissima.ch/wp-content/uploads/2023/06/La-gana-nera.jpg
END:VEVENT
END:VCALENDAR