BEGIN:VCALENDAR
VERSION:2.0
PRODID:-//BlenioBellissima - ECPv6.15.19//NONSGML v1.0//EN
CALSCALE:GREGORIAN
METHOD:PUBLISH
X-ORIGINAL-URL:https://bleniobellissima.ch
X-WR-CALDESC:Eventi per BlenioBellissima
REFRESH-INTERVAL;VALUE=DURATION:PT1H
X-Robots-Tag:noindex
X-PUBLISHED-TTL:PT1H
BEGIN:VTIMEZONE
TZID:Europe/Paris
BEGIN:DAYLIGHT
TZOFFSETFROM:+0100
TZOFFSETTO:+0200
TZNAME:CEST
DTSTART:20240331T010000
END:DAYLIGHT
BEGIN:STANDARD
TZOFFSETFROM:+0200
TZOFFSETTO:+0100
TZNAME:CET
DTSTART:20241027T010000
END:STANDARD
BEGIN:DAYLIGHT
TZOFFSETFROM:+0100
TZOFFSETTO:+0200
TZNAME:CEST
DTSTART:20250330T010000
END:DAYLIGHT
BEGIN:STANDARD
TZOFFSETFROM:+0200
TZOFFSETTO:+0100
TZNAME:CET
DTSTART:20251026T010000
END:STANDARD
BEGIN:DAYLIGHT
TZOFFSETFROM:+0100
TZOFFSETTO:+0200
TZNAME:CEST
DTSTART:20260329T010000
END:DAYLIGHT
BEGIN:STANDARD
TZOFFSETFROM:+0200
TZOFFSETTO:+0100
TZNAME:CET
DTSTART:20261025T010000
END:STANDARD
END:VTIMEZONE
BEGIN:VEVENT
DTSTART;TZID=Europe/Paris:20250201T085000
DTEND;TZID=Europe/Paris:20250201T161000
DTSTAMP:20260423T204422
CREATED:20250107T124108Z
LAST-MODIFIED:20250115T165429Z
UID:5252-1738399800-1738426200@bleniobellissima.ch
SUMMARY:Ciaspolata con Caviardage
DESCRIPTION:Info e Riservazione: Iscrizioni entro il 26.01.25 all’indirizzo mail: tiprendopermanu@gmail.com oppure al numero: +41 (0)79 291 37 92 (Manuela Vigilante).In caso di meteo incerta\, o per altre cause di forza maggiore\, i partecipanti saranno avvertiti dell’annullamento della gita due giorni prima della data prevista. \n\n\n\nCosto: 50.- franchi (30.- per la gita 15.- per il pranzo e 5.- per il materiale). Costo della gita\, pagabile sul momento in contanti o via Twint: 079 291 37 92 \n\n\n\nOrario e luogo di ritrovo:08:50 parcheggio e fermata autopostale Municipio Olivone (arrivo del bus daBiasca ore 8:47)Orario e luogo di rilascio:16:00 parcheggio e fermata autopostale Municipio Olivone (partenza del busper Biasca 16:10) \n\n\n\n↑210 m ↓210 m per 5\,5 km Sentiero di montagna tracciatoDifficoltà ●●○○○ Condizione fisica ●●○○○ \n\n\n\nAl mattino si farà una gita con le ciaspole (innevamento permettendo). Siconsumerà un pranzo caldo presso “casa vaticano” a Olivone e nel pomeriggiosi farà un’attività con una delle 7 tecniche del metodo Caviardage. \n\n\n\nScarica la documentazione \n\n\n\n \n\n\n\n \n\n\n\nAccompagnamento: Manuela Vigilante\, accompagnatrice di visite guidate con diploma cantonale \n\n\n\n \n\n\n\n\n\n\n\nCon il sostegno delle Autolinee Bleniesi \n\n\n\nUlteriori informazioni\n\n\n\nCiaspolata con Caviardage
URL:https://bleniobellissima.ch/camminata/ciaspole-e-caviardage/
CATEGORIES:Sentieri naturalistici
END:VEVENT
END:VCALENDAR