BEGIN:VCALENDAR
VERSION:2.0
PRODID:-//BlenioBellissima - ECPv6.15.19//NONSGML v1.0//EN
CALSCALE:GREGORIAN
METHOD:PUBLISH
X-ORIGINAL-URL:https://bleniobellissima.ch
X-WR-CALDESC:Eventi per BlenioBellissima
REFRESH-INTERVAL;VALUE=DURATION:PT1H
X-Robots-Tag:noindex
X-PUBLISHED-TTL:PT1H
BEGIN:VTIMEZONE
TZID:Europe/Paris
BEGIN:DAYLIGHT
TZOFFSETFROM:+0100
TZOFFSETTO:+0200
TZNAME:CEST
DTSTART:20240331T010000
END:DAYLIGHT
BEGIN:STANDARD
TZOFFSETFROM:+0200
TZOFFSETTO:+0100
TZNAME:CET
DTSTART:20241027T010000
END:STANDARD
BEGIN:DAYLIGHT
TZOFFSETFROM:+0100
TZOFFSETTO:+0200
TZNAME:CEST
DTSTART:20250330T010000
END:DAYLIGHT
BEGIN:STANDARD
TZOFFSETFROM:+0200
TZOFFSETTO:+0100
TZNAME:CET
DTSTART:20251026T010000
END:STANDARD
BEGIN:DAYLIGHT
TZOFFSETFROM:+0100
TZOFFSETTO:+0200
TZNAME:CEST
DTSTART:20260329T010000
END:DAYLIGHT
BEGIN:STANDARD
TZOFFSETFROM:+0200
TZOFFSETTO:+0100
TZNAME:CET
DTSTART:20261025T010000
END:STANDARD
END:VTIMEZONE
BEGIN:VEVENT
DTSTART;TZID=Europe/Paris:20250131T080000
DTEND;TZID=Europe/Paris:20250131T170000
DTSTAMP:20260423T192912
CREATED:20241206T073853Z
LAST-MODIFIED:20241209T091333Z
UID:5236-1738310400-1738342800@bleniobellissima.ch
SUMMARY:Alcuni temi delle gite 2025
DESCRIPTION:Camminare con la testa alla scoperta del territorio della Valle di Blenio.\n\n\n\nPAGINA IN COSTRUZIONE maggiori info: bleniobellissima[at]gmail.com \n\n\n\nNovità per il 2025 Scegliete una gita proposta nel 2024\, create un gruppo di 8-10 persone e contattate la responsabile che trovate nella pagina della gita. \n\n\n\n\nAlcuni temi proposti per il 2025  \n\n\n\n\nBrenno\, alpeggi e Selvasecca (giugno-settembre)Facile escursione nella Valle di Santa Maria per scoprire il fiume Brenno e la sua sorgente\, e osservare i vari alpeggi della zona con la possibilità di organizzare delle soste per degustare e acquistare i formaggi locali. Possibilità di adattare il percorso secondo le esigenze\, includendo la Selvasecca e il Centro di Acquacalda. \n\n\n\nRicordi di un ghiacciaio nella Valle di Santa Maria (maggio-ottobre)Magnifica escursione per sentieri T2 di medio-facile livello\, con partenza dal Passo del Lucomagno\, scendendo attraverso doline e canyon\, per osservare caratteristici paesaggi come paludi e torbiere in ricordo del passaggio del ghiacciaio e della presenza dell’acqua. Possibilità di adattare il percorso in base alle esigenze. \n\n\n\nEdifici del passato nella medio-bassa Valle del Sole in bicicletta (tutto l’anno)In un facile percorso circolare tra Malvaglia e Acquarossa lasciatevi catturare dalle storie della media bassa Valle che hanno segnato i luoghi\, come quando la gente partiva in cerca di fortuna o nella Valle si cercava di attrarre il turismo.Il percorso si potrà adattare per essere percorso anche a piedi. \n\n\n\nTradizioni della Valle in un’azienda agricola (maggio-ottobre)Partendo da Olivone saliremo dalla vecchia mulattiera lungo le suggestive Gole del Sosto che ai tempi collegavano Olivone a Campo Blenio. Visita ad un’azienda agricola che prepara diversi prodotti caseari\, con la possibilità di organizzare un aperitivo – degustazione e preparare i formaggini. \n\n\n\nLetture e aneddoti costeggiando il Lago di Santa Maria (giugno-ottobre)Facile camminata quasi pianeggiante intorno al lago\, soffermandoci ad ammirare scorci dell’incantevole paesaggio\, ascoltare racconti e storie tratti da testimonianze e da libri. \n\n\n\nAquila\, Ponto Valentino e Leontica con le loro milizie e le bellezze dei suoi villaggi (tutto l’anno dal 2026)Escursione attraverso i tre paesi raccontando di storie e delle milizie. Possibilità di percorrerlo a piedi o in e-bike. \n\n\n\n\n\n\n\nCon il sostegno delle Autolinee Bleniesi
URL:https://bleniobellissima.ch/camminata/temi-gite-2025/
ATTACH;FMTTYPE=image/jpeg:https://bleniobellissima.ch/wp-content/uploads/2024/05/BlenioBellissima-LOGO-1024x419-1.jpg
END:VEVENT
END:VCALENDAR