BEGIN:VCALENDAR
VERSION:2.0
PRODID:-//BlenioBellissima - ECPv6.15.19//NONSGML v1.0//EN
CALSCALE:GREGORIAN
METHOD:PUBLISH
X-ORIGINAL-URL:https://bleniobellissima.ch
X-WR-CALDESC:Eventi per BlenioBellissima
REFRESH-INTERVAL;VALUE=DURATION:PT1H
X-Robots-Tag:noindex
X-PUBLISHED-TTL:PT1H
BEGIN:VTIMEZONE
TZID:Europe/Paris
BEGIN:DAYLIGHT
TZOFFSETFROM:+0100
TZOFFSETTO:+0200
TZNAME:CEST
DTSTART:20230326T010000
END:DAYLIGHT
BEGIN:STANDARD
TZOFFSETFROM:+0200
TZOFFSETTO:+0100
TZNAME:CET
DTSTART:20231029T010000
END:STANDARD
BEGIN:DAYLIGHT
TZOFFSETFROM:+0100
TZOFFSETTO:+0200
TZNAME:CEST
DTSTART:20240331T010000
END:DAYLIGHT
BEGIN:STANDARD
TZOFFSETFROM:+0200
TZOFFSETTO:+0100
TZNAME:CET
DTSTART:20241027T010000
END:STANDARD
BEGIN:DAYLIGHT
TZOFFSETFROM:+0100
TZOFFSETTO:+0200
TZNAME:CEST
DTSTART:20250330T010000
END:DAYLIGHT
BEGIN:STANDARD
TZOFFSETFROM:+0200
TZOFFSETTO:+0100
TZNAME:CET
DTSTART:20251026T010000
END:STANDARD
END:VTIMEZONE
BEGIN:VEVENT
DTSTART;TZID=Europe/Paris:20240522T104500
DTEND;TZID=Europe/Paris:20240522T150000
DTSTAMP:20260421T133800
CREATED:20240507T143028Z
LAST-MODIFIED:20240507T144342Z
UID:4928-1716374700-1716390000@bleniobellissima.ch
SUMMARY:Alla scoperta della pozza del Felice
DESCRIPTION:Info e Riservazione: entro il 18.05\, alla responsabile della gita Rita Beltrami\, r.beltrami693@gmail.com \n\n\n\nCosto in CHF : 25.- \n\n\n\nDal paese di Leontica si sale per un comodo sentiero verso la pozza del Felice\, un luogo che ci fatto scoprire Fabio Andina con il suo romanzo omonimo.Brani del libro saranno letti durante il cammino per ripercorrere assieme la trama del racconto. \n\n\n\n\n\n\n\nProgramma \n\n\n\n\n\nOra e luogo d’incontro\n10.45\nChiesa di Leontica. Parcheggio e fermata dell’autopostale\n\n\nPranzo\n \nal sacco\n\n\nOra e luogo di rientro\n15.00\nChiesa di Leontica. Parcheggio e fermatadell’autopostale\n\n\n\n\n\nInfo tecniche \n\n\n\n\n\nLunghezza:\n4 km \n\n\nDurata :\n1.30 h (tempo effettivo di marcia)\n\n\nDislivello (+salita/-discesa m):\n+ 300/ – 300\n\n\nDifficoltà:\nFacile sentiero di montagna (T2).\n\n\nEquipaggiamento\nScarponi da montagna o da trekking\, vestiti adatti alla stagione\, zaino comodo con pranzo al sacco e bibite\, crema solare\, equipaggiamento in caso di pioggia e vento\, bastoncini da trekking e farmacia personale (in particolare medicamenti).\n\n\nDa sapere\nPrima di partire vi raccomandiamo di verificare se l’itinerario è adatto alle vostre capacità (durata complessiva di marcia – dislivelli) e di avere l’equipaggiamento adeguato.\n\n\n\nAccompagnamento:  Rita Beltrami\, Accompagnatrice di visite guidate (AVIG) e monitrice ESA per sport di montagna. \nCome arrivare: Privilegiare il trasporto pubblico.Mezzi pubblici: Autopostale B 131 da Biasca direzione Olivone-Petullo – fermata Leontica Chiesa (arrivo 10.46)Mezzi privati: posteggio adiacente alla chiesa e alla fermata dell’autopostale(si chiede di organizzarsi per il car sharing). \n\n\nCon il sostegno delle Autolinee Bleniesi\n\n\n\n\n\nLogo dell’Associazione Blenio Bellissima
URL:https://bleniobellissima.ch/camminata/alla-scoperta-della-pozza-del-felice-anselmo/
ATTACH;FMTTYPE=image/png:https://bleniobellissima.ch/wp-content/uploads/2024/05/la-pozza-delFelice.png
END:VEVENT
END:VCALENDAR