BEGIN:VCALENDAR
VERSION:2.0
PRODID:-//BlenioBellissima - ECPv6.15.19//NONSGML v1.0//EN
CALSCALE:GREGORIAN
METHOD:PUBLISH
X-ORIGINAL-URL:https://bleniobellissima.ch
X-WR-CALDESC:Eventi per BlenioBellissima
REFRESH-INTERVAL;VALUE=DURATION:PT1H
X-Robots-Tag:noindex
X-PUBLISHED-TTL:PT1H
BEGIN:VTIMEZONE
TZID:UTC
BEGIN:STANDARD
TZOFFSETFROM:+0000
TZOFFSETTO:+0000
TZNAME:UTC
DTSTART:20220101T000000
END:STANDARD
END:VTIMEZONE
BEGIN:VEVENT
DTSTART;TZID=UTC:20230915T090000
DTEND;TZID=UTC:20230915T163000
DTSTAMP:20260419T162054
CREATED:20230802T135921Z
LAST-MODIFIED:20230802T135922Z
UID:4477-1694768400-1694795400@bleniobellissima.ch
SUMMARY:Tra gli alpeggi e i monti di Dagro\, un ampio terrazzo con vista
DESCRIPTION:Info e Riservazione: Michelle Minotti\, minotti.michelle@gmail.com\, 079 564 64 07\, entro il 10 settembre.In caso di meteo incerta i partecipanti saranno avvertiti nel gruppo WhatsApp della gita.Massimo 11 partecipanti. Cabina da 4 persone \nCosto: 25.- CHFCosti aggiuntivi: salita e discesa in filovia Malvaglia 16.- CHF \nGiro ad anello panoramico.Da Dagro parte il sentiero che attraversa lo splendido bosco di abeti e larici detto “Bosco della Cascina” che ci porta sull’ ampio terrazzo sul quale sorge l’Alpe di Prou\, ai piedi della cima di Piancabella. Da questo luogo baciato dal sole e con una vista che spazia dalla Valle di Blenio alla Val Malvaglia proseguiamo il nostro itinerario lungo un sentiero pianeggiante e ci inoltriamo nella Val Malvaglia attraverso un suggestivo percorso che ci porta all’ Alpe di Cióu fino al Prato di Cüm. Da qui il nostro itinerario scende per incrociare il sentiero dei monti che passando da Monda ci riporta a Dagro. \n\n\n\n\n\n\nProgramma\n\n\n\n\n\nOra e luogo d’incontro\n9.00\nPiazzale Posteggio Filovia Malvaglia\, Salita in Filovia Partenza e arrivo della gita a Dagro (1400m.)\n\n\nPranzo\n \nal sacco\n\n\nOra e luogo di rientro\n16.30\nPiazzale posteggio Filovia Dagro\, Malvaglia\n\n\n\n\n\nInfo tecniche\n\n\n\n\n\nLunghezza:\n11 km \n\n\nDurata :\n4 h\n\n\nDislivello (+salita/-discesa m):\n+ 731m/ – 706m\n\n\nDifficoltà:\nT2 (escursione di montagna)\, senza particolari difficoltà. Dislivello iniziale da Dagro a Prou +600m.\n\n\nDa sapere\n\nIl dislivello iniziale attraverso il bosco da Dagro a Prou è di 600 metri. Sentiero marcato\, senza difficoltà particolari. \nPrima di partire vi raccomandiamo di verificare se l’itinerario è adatto alle vostre capacità (durata complessiva di marcia – dislivelli) e di avere l’equipaggiamento adeguato. \n\n\n\n\nAccompagnamento: Michelle Minotti\, Accompagnatrice di visite guidate con diploma cantonale (in formazione). \nCome arrivare: privilegiare il trasporto pubblico.Mezzi pubblici: Autopostale – fermata “Filovia Malvaglia”Auto: posteggio Filovia Malvaglia  (parcheggio gratuito) \n\n\n\n\n\n\nCon il sostegno delle Autolinee bleniesi\n\n\n\n \n\n\n\n\n\n\n\nLa “villa” di Dagro\, Valle Malvaglia\n\n\n\nFonte: thepictures4you.ch
URL:https://bleniobellissima.ch/camminata/tra-gli-alpeggi-e-i-monti-di-dagro-un-ampio-terrazzo-con-vista-2/
CATEGORIES:Sentieri storici,Sentieri tematici
ATTACH;FMTTYPE=image/jpeg:https://bleniobellissima.ch/wp-content/uploads/2021/06/ValMalvaglia2.jpg
END:VEVENT
END:VCALENDAR